BEGIN:VCALENDAR
VERSION:2.0
PRODID:icalendar-ruby
CALSCALE:GREGORIAN
METHOD:PUBLISH
BEGIN:VEVENT
DTSTAMP:20260422T085157Z
UID:12-679885@fcogg.org
DTSTART:20261028T150000Z
DTEND:20261028T160000Z
CLASS:PUBLIC
CREATED:20260421T183314
DESCRIPTION:Men's Breakfast 
LAST-MODIFIED:20260421T183314
LOCATION:Brook's Diner
SUMMARY:Men's Breakfast 
URL;VALUE=URI:https://www.fcogg.org/events/mens-breakfast/2026-10-28
END:VEVENT
END:VCALENDAR
